BEGIN:VCALENDAR
VERSION:2.0
PRODID:-//ddaysoftware.com//NONSGML DDay.iCal 1.0//EN
BEGIN:VEVENT
DESCRIPTION:Join your colleagues at the Downstate Chapter Southwestern Regi
 on Holiday Luncheon!  Participants will hear discussion on the nuances of 
 accounting for tax increment finance (TIF) districts. Guest speaker is Sco
 tt Termine\, BKD LLP.\nAGENDA11:30 AM - Check-in and Networking12:00 PM - 
 Luncheon12:30 PM - Presentation -  Accounting for TIFs Handouts  \nLearnin
 g Objectives: Participants completing this session should be able to:1. Le
 arn the basics of accounting for TIF districts\,2. Identify what annual re
 porting requirements exist for TIFs\, and3. Understand the issues raised w
 hen winding up a TIF.\nDelivery Method: Group-LiveProgram Level: OverviewP
 rerequisites: No prerequisites requiredAdvanced Preparation: No advanced p
 reparation requiredField of Study: Accounting (Governmental) - TechnicalEa
 rn About 1.0 CPE credit
DTEND:20181207T133000
DTSTAMP:20260421T144228
DTSTART:20181207T113000
LOCATION:Dewey's Pizza\, 425 Regency Park\, O'Fallon\, IL 62269
SEQUENCE:0
SUMMARY:Southwestern Region Holiday Luncheon and Accounting for TIFs Presen
 tation
UID:bbf50940-3619-4b47-a437-52e18e2b3eba
END:VEVENT
END:VCALENDAR
