BEGIN:VCALENDAR
VERSION:2.0
PRODID:-//ddaysoftware.com//NONSGML DDay.iCal 1.0//EN
BEGIN:VEVENT
DESCRIPTION:Join with other municipal utility billing personnel for a semin
 ar and peer discussion on utility billing best practices\; essential tools
  for customer service\; and utility billing legal issues to be considered.
  This seminar is an excellent opportunity to network and learn how other c
 ommunities are handling similar utility billing topics.\nAGENDA and LEARNI
 NG OBJECTIVE\nDelivery method: Group-LiveProgram Level: BasicPrerequisites
 : No prerequisites requiredAdvanced Preparation: No advanced preparation r
 equiredField of Study: Business Law\, Business Management & OrganizationEa
 rn about 6.6 CPE Credits
DTEND:20190627T153000
DTSTAMP:20260423T111728
DTSTART:20190627T083000
LOCATION:NIU Naperville\, 1120 E. Diehl Road\, Naperville\, Illinois 60563
SEQUENCE:0
SUMMARY:Utility Billing Seminar
UID:1b5f85ad-31d6-458a-8c89-4e7491b9ca28
END:VEVENT
END:VCALENDAR
