BEGIN:VCALENDAR
VERSION:2.0
PRODID:-//ddaysoftware.com//NONSGML DDay.iCal 1.0//EN
BEGIN:VEVENT
DESCRIPTION:AGENDA and LEARNING OBJECTIVES\nSessions Include: * Influencing
  Without Authority - Achieving Results Regardless of Your Positional Power
 Speaker: Kirk J. Hamsher\, Carroll-Keller Group * Grant Accountability and
  Transparency Act (GATA) – How to Comply with the New Reporting Requiremen
 ts Speakers: Carol A. Kraus\, CPA\, Governor’s Office of Management and Bu
 dget (GOMB) Lori Beeler\, CPA\, Governor’s Office of Management and Budget
  (GOMB) * Current Bond Market and the Effects of Federal Tax Law ChangesSp
 eaker: Stephen Adams\, PMA Securities Andrew Kim\, PMA Securities* Anatomy
  of an Illinois City or Village Bond Issue - Steps Involved Speakers: Jame
 s M Snyder\, Ice Miller LLP\,Kathy Thomas\, Ice Miller LLP\,Robert P. Vail
 \, Bernardi Securities\, Inc.John M. Vezzetti\, Bernardi Securities\, Inc.
  * Legislative UpdateSpeaker: William D. McCarty II\, City of Springfield\
 , IGFOA Treasurer and Legislative Committee ChairDelivery method: Group-Li
 veProgram Level: OverviewPrerequisites: No prerequisites requiredAdvanced 
 Preparation: No advanced preparation requiredField of Study: Finance - Tec
 hnical\,  Accounting (Governmental) - Technical\, Business Management & Or
 ganization - Non-TechnicalEarn about 9.0 CPE Credits\n____________________
 __________________________________________________________________________
 ________\nHOTEL INFORMATIONPresident Abraham Lincoln Springfield - a Doubl
 eTree by Hilton Hotel701 E Adams Street\, Springfield\, Illinois 62701\nA 
 block of rooms has been reserved for February 20\, 2019 - February 22\, 20
 19. The special room rate of $102.00 plus tax will be available until Janu
 ary 30\, 2019.   \nFor reservations call 1-217-544-8800 and indicate you a
 re with the  IGFOA Downstate Conference (Group Code: IGF) or click on the 
 link below to book your room in the IGFOA Downstate Conference block.\nhtt
 ps://doubletree.hilton.com/en/dt/groups/personalized/S/SPIASDT-IGF-2019022
 0/index.jhtml?WT.mc_id=POG
DTEND:20190222T120000
DTSTAMP:20260420T022147
DTSTART:20190221T100000
LOCATION:President Abraham Lincoln Springfield-DoubleTree\, 701 E Adams Str
 eet\, Springfield\, IL 62701
SEQUENCE:0
SUMMARY:Downstate Chapter Conference 
UID:6c710e0b-a4bd-4762-b4c5-0d9f650f44b9
END:VEVENT
END:VCALENDAR
