BEGIN:VCALENDAR
VERSION:2.0
PRODID:-//ddaysoftware.com//NONSGML DDay.iCal 1.0//EN
BEGIN:VEVENT
DESCRIPTION:Join ASP Chicago and Val Jensen\, SVP Strategy & Policy\, Exelo
 n Utilities as he discusses what the Utility of the Future is and how Exel
 on is building the strategy to bring it to life. Here’s what you’ll walk a
 way with: * Understand the forces that are disrupting electric utilities g
 lobally. * Learn what Utility of the Future means and how Exelon is buildi
 ng the strategy to bring it to life for its ten million customers. * Under
 stand the essential link between strategy and policy in the regulated worl
 d of electric utilities. Registration Link: https://www.strategyassociatio
 n.org/events/EventDetails.aspx?id=1161984&group
DTEND:20181113T200000
DTSTAMP:20260420T103007
DTSTART:20181113T170000
LOCATION:
SEQUENCE:0
SUMMARY:ASP Chicago Presents: Building the Platform for the Connected Commu
 nity
UID:fc53d11e-1e5b-4d00-b71d-c680e2d0754a
END:VEVENT
END:VCALENDAR
