BEGIN:VCALENDAR
VERSION:2.0
PRODID:-//ddaysoftware.com//NONSGML DDay.iCal 1.0//EN
BEGIN:VEVENT
DESCRIPTION:Per the Juniper research\, Cybercriminals will steal an estimat
 ed 33 billion records by 2023 which is around 12 billion+ records in 2018.
  Records include confidential personal and financial information\, confide
 ntial government documents and corporate documents. Out of total attacks i
 n the world\, 38% are targeted in United States alone and the cost of aver
 age data breach comes out to be $7.91 million in addition to the lost piec
 e of mind. \nThe seminar is intended to educate the participants about the
  cyber security with its ins and outs. The experienced speakers will engag
 e in discussion with real-life case studies of cyber securities\, their im
 pact and lessons from it\, as well as about the best practices to mitigate
  the risk and exposure of cyber security with its associated costs. \nAgen
 da:10:45 AM-11:15 AM: Check-in and Networking11:15 AM-12:00 PM: Presentati
 on - 112:00 -12:30 PM: Presentation - 212:30 PM: Lunch \nSpeakers:Adam Per
 ella – Senior Management Consultant at SikichFrank Ferro\, Vice President 
 and Senior Risk Advisor at Huntington Bank \nLearning Objectives – Partici
 pants completing this session will be able to:\n\nOverall technical aspect
 s of cybersecurity breaches and defense mechanisms available as of today.\
 nThe Practical applications of cybersecurity policymaking and policies\nRe
 al-life Case-studies of historical computer security problems and what we 
 learned from it.\nStandard and best practices as well as available resourc
 es and mechanisms to fight the cyber security at personal\, enterprise and
  governmental level.\nCost of cyber security and its effectiveness \n\nInt
 ended Audience: All Finance and Local Government employeesDelivery Method:
  Group Live Program Level: OverviewPrerequisites: No prerequisites require
 dAdvanced Preparation: No advanced preparation requiredField of Study:  In
 formation Technology - Technical and Finance - TechnicalEarn About 1.5 CPE
  credit
DTEND:20190515T130000
DTSTAMP:20260425T163648
DTSTART:20190515T111500
LOCATION:Village of Elk Grove Village\, 901 Wellington Ave. \, Elk Grove Vi
 llage\, IL 60007
SEQUENCE:0
SUMMARY:Chicago Metro Chapter Lunch and Learn - Cybersecurity
UID:3069933f-53c0-4adc-a623-2f0e23d0881e
END:VEVENT
END:VCALENDAR
