BEGIN:VCALENDAR
VERSION:2.0
PRODID:-//ddaysoftware.com//NONSGML DDay.iCal 1.0//EN
BEGIN:VEVENT
DESCRIPTION:Chapter Board meeting
DTSTAMP:20260422T001527
DTSTART;VALUE=DATE:20140711
LOCATION:Cracker Barrel\, Tinley Park\, IL
SEQUENCE:0
SUMMARY:Chapter Board meeting
UID:685a8108-3c0f-4210-9e0e-25d01da3d13e
END:VEVENT
END:VCALENDAR
