BEGIN:VCALENDAR
VERSION:2.0
PRODID:-//ddaysoftware.com//NONSGML DDay.iCal 1.0//EN
BEGIN:VEVENT
DESCRIPTION:Understanding your government’s financial information can help 
 you assess your financial condition\, make better budgeting decisions\, an
 d improve the strategic management of municipal finances. In this session\
 , we’ll help you understand what the numbers in your financial statements 
 mean\, and where you should look to gain an understanding of your governme
 nt’s financial health. Topics include:\n• How to read governmental financi
 al statements              o Governmental statements              o Enterp
 rise statements              o GW statements              o Cash flow stat
 ements – what good are they?              o Fund balance – what it measure
 s\, target policies\, etc.• How do I know if my government’s financial pos
 ition is deteriorating or improving?• Using budgets effectively• Financial
  forecasting/multi-year budgets\nInstructors: Joe Kowalski\, Partner\, Pla
 nte Moran\; Shawana Jackson\, Associate\, Plante MoranTechnical Reviewer: 
 Michelle Watterworth\, Partner\, Plante MoranLearning Objectives: At the c
 onclusion of this webinar\, participants will be able to:• Summarize the d
 ifferent types of government financial statements• Explain what a fund bal
 ance is• Identify how to determine a government’s financial position• Expl
 ain how to use budgets effectively Intended Audience: All government manag
 ement & finance professionalsDelivery method: Group Internet BasedProgram 
 Level: BasicPrerequisites: No prerequisites requiredAdvanced Preparation: 
 No advanced preparation requiredField of Study: Finance - Technical CPE Cr
 edits: Earn about 1.0 CPE credits
DTEND:20190123T130000
DTSTAMP:20260419T224023
DTSTART:20190123T120000
LOCATION:
SEQUENCE:0
SUMMARY:Are We Healthy?  Interpreting Financial Statements and Using Budget
 s
UID:6db563ca-fa29-423f-84f0-1f0858d4a064
END:VEVENT
END:VCALENDAR
