BEGIN:VCALENDAR
VERSION:2.0
PRODID:-//ddaysoftware.com//NONSGML DDay.iCal 1.0//EN
BEGIN:VEVENT
DESCRIPTION:The Role of the Supervisor of Assessments and How it Fits into 
 the Property Tax Cycle\nPresenter: Tom Hodges\, Supervisor of Assessments\
 , Winnebago County\nThe County Supervisor of Assessments has several dutie
 s\, including processing exemptions\, creating parcel maps\, serving as Cl
 erk for the Board of Review and providing assessment data to the State of 
 Illinois.  Tom Hodges\, Winnebago County Supervisor of Assessments\, will 
 provide information on these duties and the role of the office in the prop
 erty tax cycle.\n 
DTEND:20190618T130000
DTSTAMP:20260423T031338
DTSTART:20190618T120000
LOCATION:Tavern on Clark\, 755 Clark Drive\, Rockford\, IL 61104
SEQUENCE:0
SUMMARY:Rock River Region Luncheon - Role of Supervisor of Assessment & Pro
 perty Tax Cycle
UID:f83f11f3-01a0-400e-a755-a3a0c20815cd
END:VEVENT
END:VCALENDAR
