BEGIN:VCALENDAR
VERSION:2.0
PRODID:-//ddaysoftware.com//NONSGML DDay.iCal 1.0//EN
BEGIN:VEVENT
DESCRIPTION:Growth and Engagement Network Lunch and Learn presentsFLSA Upda
 te: Common Pitfalls and Ways to Minimize Liability\nAgenda\n\n11:30 AM - N
 etworking and registration\n11:45 AM - Luncheon\n11:50 - 1:05 PM Presentat
 ion and Q&A\n\nSpeakers: Paul Denham\, Associate\, Clark\, Baird\, Smith a
 nd Roxana M. Underwood\, Associate\, Clark\, Baird\, Smith \n\nLearning Ob
 jectives: Participants completing this session will be able to:\n\n· Prope
 rly classifying employees exempt from overtime requirements.· Identifying 
 what is and is not compensable time under wage and hour laws.· Alternative
  overtime arrangements for public sector employers. \nIntended Audience: F
 inance ProfessionalsDelivery Method: Group-LiveProgram Level: OverviewPrer
 equisites: No prerequisites requiredAdvanced Preparation: No advanced prep
 aration requiredField of Study: Finance-TechnicalEarn About 1.0 CPE credit
 \n\n
DTEND:20190328T133000
DTSTAMP:20260421T105702
DTSTART:20190328T113000
LOCATION:Pinstripes\, 1150 Willow Road\, Northbrook\, IL 60062
SEQUENCE:0
SUMMARY:FLSA Update: Common Pitfalls and Ways to Minimize Liability
UID:3b85ed0c-df7a-4155-8813-052337b60d07
END:VEVENT
END:VCALENDAR
