BEGIN:VCALENDAR
VERSION:2.0
PRODID:-//ddaysoftware.com//NONSGML DDay.iCal 1.0//EN
BEGIN:VEVENT
DESCRIPTION:Register at https://elgl.org/elglinspire-northern-illinois-univ
 ersity/\nThis free event inspires students to pursue local government care
 ers. Hear from people working for  cities and counties about their jobs\, 
 and then connect with them to grow your career options. Learn the best str
 ategies for finding a public service job after graduation\, or the graduat
 e degrees you could pursue.\nLunch is included\, and an RSVP is required.\
 nNoon – Arrive\, check in\, catered lunch\n12:15 – Welcome from ELGL & ILC
 MA\n12:30 – Quick Fire Presentations From Local Government Practitioners\n
 These are fast-paced\, four minute presentations about the challenges and 
 opportunities in each sector of local government.\n1:30 – Campfire Convers
 ations With Local Government Practitioners\nStudents will choose a table w
 here they will learn from the Quick Fire practitioners in a small group se
 tting. After 10 minutes\, students will rotate to a new table. This will b
 e done four times so that every student gets a chance to sit with five pra
 ctitioners to ask questions and hear from them about their path into local
  government and how they realized it was the career for them.\n2:30 – What
 ’s Next? Pursuing Public Service After Undergrad\nThis moderated session i
 ncludes panelist discussions on career paths\, as well as the chance for a
 udience questions. Panelists include local government practitioners\, MPA 
 program representatives\, and sponsor organization representatives.\n3:30 
 – Close & NetworkingRegister at https://elgl.org/elglinspire-northern-illi
 nois-university/
DTEND:20190426T000000
DTSTAMP:20260423T083035
DTSTART:20190426T000000
LOCATION:NIU Barsema Alumni & Visitor Center\, 231 N. Annie Glidden Road\, 
 DeKalb\, Illinois
SEQUENCE:0
SUMMARY:#ELGLInspire – Northern Illinois University
UID:6438d32d-e4a3-4e1d-9f45-560e503c1b82
END:VEVENT
END:VCALENDAR
