BEGIN:VCALENDAR
VERSION:2.0
PRODID:-//ddaysoftware.com//NONSGML DDay.iCal 1.0//EN
BEGIN:VEVENT
DESCRIPTION:Downstate Chapter Southern Region presents State of Cybersecuri
 tyThis session will cover Current Trends and Threats as it relates to Cybe
 rsecurity. A live hacking demonstration will be performed that provides an
  introduction to common offensive security tools to target physical access
  (RFID badges) and multi factor authentication. Earn about 1.5 CPE creditS
 peaker: Patrick Flanigan\, CISSP\, CEH | Manager\, Plante MoranIGFOA AGEND
 A 11:30 - 12:00 - IGFOA Check-in12:15 - 1:30 - Cybersecurity Presentation1
 :30 - 2:00 - Networking / Adjourn(Lunch will be served)\nLearning Objectiv
 es: Participants completing this session will be able to:1. Cover recent t
 rends of Cybersecurity2. Learn about phishing email threats and compare va
 rious types of 2 factor authentication3. View a live hacking demonstration
  using common tools and offensive security typically used during a penetra
 tion test. \nIntended Audience: Users of and Individuals responsible for t
 he data protection and cybersecurity of an organizationDelivery Method: Gr
 oup-LiveProgram Level: OverviewPrerequisites: No prerequisites requiredAdv
 anced Preparation: No advanced preparation requiredField of Study: Informa
 tion Technology - Technical Earn About 1.5 CPE credit\n\nPlease note that 
 IDOR will be holding a MyLocalTax workshop prior to the IGFOA event from 9
 :45 - 11:15. To attend the IDOR presentation\, you must pre-register at ht
 tps://www2.illinois.gov/rev/localgovernments/Pages/localgovworkshop.aspx
DTEND:20190627T140000
DTSTAMP:20260422T102905
DTSTART:20190627T113000
LOCATION:Mt. Vernon Outland Airport\, 100 Aviation Drive\, Mt. Vernon\, IL
SEQUENCE:0
SUMMARY:Southern Region Lunch and Learn - State of Cybersecurity
UID:d1fa2146-b2f7-4d12-937a-82aba8a726df
END:VEVENT
END:VCALENDAR
