BEGIN:VCALENDAR
VERSION:2.0
PRODID:-//ddaysoftware.com//NONSGML DDay.iCal 1.0//EN
BEGIN:VEVENT
DESCRIPTION:GATA Workshop - Afternoon SessionMay 29\, 20191:00 - 4:00 PMHan
 douts\nThe Grant Accountability and Transparency Act or GATA – reporting r
 equirements continue to be a concern for local governments causing confusi
 on and speculation on how to comply.  IGFOA is here to help!\nThe Professi
 onal Education Committee and Technical Accounting Review Committee are off
 ering four (4) half-day interactive workshops where attendees can walk thr
 ough the process and procedures with Lori Beeler and Carol Krause of the G
 rant Accountability and Transparency Unit\, Governor’s Office of Managemen
 t and Budget. Attendees will work with professionals who actually understa
 nd the GATA process and how to accurately comply with the requirements.\nJ
 oin Lori and Carol as they walk thru the correct step by step process for 
 completing the CYFER\, audit filings\, common deficiencies in meeting repo
 rting requirements\, with plenty of time for Q&A.\nSo bring your laptop an
 d roll up your sleeves for a hands-on\, interactive\, and accurate profess
 ional training session.\nSpeakers:Carol A. Kraus\, CPA\, Director of the G
 rant Accountability and Transparency Unit\, Governor’s Office of Managemen
 t and Budget (GOMB)Lori Beeler\, CPA\, Manager of the Grant Accountability
  and Transparency Unit\, Governor’s Office of Management and Budget (GOMB)
DTEND:20190529T160000
DTSTAMP:20260424T025500
DTSTART:20190529T130000
LOCATION:NIU Naperville\, 1120 E. Diehl Road\, Naperville\, IL 60563
SEQUENCE:0
SUMMARY:GATA Workshop - Afternoon Session
UID:86af618b-b5e3-4836-830b-2625b00ec4e7
END:VEVENT
END:VCALENDAR
