BEGIN:VCALENDAR
VERSION:2.0
PRODID:-//ddaysoftware.com//NONSGML DDay.iCal 1.0//EN
BEGIN:VEVENT
DESCRIPTION:Intended Audience:  IGFOA TARC Committee Members.  Interested i
 n participating in the TARC Committee\, contact the IGFOA at execdir@igfoa
 .org.\nThe Technical Accounting Review Committee monitors and comments on 
 activities and rulings of the Governmental Accounting Standards Board (GAS
 B). The committee provides testimony on GASB standards and educates the IG
 FOA membership on those standards. Agenda1. Public Private and Public Publ
 ic Partnerships exposure draft2. Omnibus exposure draft 3. Schedule a time
  for the joint subcommittee with the ICPAS group\nLearning Objectives – Th
 is meeting is eligible for CPE credit\n\nReview\, discuss GASB Statements 
 and their applicability to Illinois governments.\nExpand your familiarity 
 of  the accounting and financial reporting challenges faced by local gover
 nments in Illinois as a result of new accounting standards through interac
 tion with fellow accounting and finance professionals\n\n\nDelivery method
 : Group-LiveProgram Level: AdvancedPrerequisites: IGFOA TARC Committee Mem
 berField of Study: Accounting (Governmental) - TechnicalAdvanced Preparati
 on: Read through GASB Statement 84CPE: Earn about 1.0 CPE Credits\n
DTEND:20190829T160000
DTSTAMP:20260423T060707
DTSTART:20190829T140000
LOCATION:CM Services\, Inc.\, 800 Roosevelt Road\, Building C - Suite 312\,
  Glen Ellyn\, IL 60137
SEQUENCE:0
SUMMARY:Technical Accounting Review Committee Meeting
UID:a199dc77-11c6-4aad-8b7f-d5538560c8e5
END:VEVENT
END:VCALENDAR
