BEGIN:VCALENDAR
VERSION:2.0
PRODID:-//ddaysoftware.com//NONSGML DDay.iCal 1.0//EN
BEGIN:VEVENT
DESCRIPTION:Join your colleagues at the Quad Cities Holiday Luncheon!  Part
 icipants will hear updates on State legislative matters relevant to Illino
 is local governments. Guest speaker is Bill McCarty\, Director - Office of
  Budget and Management with the City of Springfield\, IGFOA Treasurer and 
 IGFOA Legislative Committee Chair.\nAGENDA11:30 AM - Check-in and Networki
 ng12:00 PM - Luncheon12:30 PM - Presentation\nLearning Objectives: Partici
 pants completing this session should be able to: \n\nGain knowledge of new
  Illinois Public Acts significantly affecting local governments.\nUndersta
 nd the outcomes of the most recent Veto Session in the Illinois General As
 sembly and whether those outcomes may significantly impact local governmen
 ts.\nBecome familiar with the status of Downstate Pension reform and the p
 otential for some form of consolidation.\nExplore ongoing State budget iss
 ues and how Illinois local government revenues may be affected.\n\nDeliver
 y Method: Group-LiveProgram Level: OverviewPrerequisites: No prerequisites
  requiredAdvanced Preparation: No advanced preparation requiredField of St
 udy: Finance - TechnicalEarn About 1.0 CPE credit
DTEND:20191212T133000
DTSTAMP:20260422T102734
DTSTART:20191212T113000
LOCATION:Bass Street Chop House\, 1601 River Drive\, Moline\, IL 61265
SEQUENCE:0
SUMMARY:Quad Cities Holiday Luncheon - 2019 Legislative Update 
UID:cbe05194-97ab-45cc-8b1f-594f14fad205
END:VEVENT
END:VCALENDAR
