BEGIN:VCALENDAR
VERSION:2.0
PRODID:-//ddaysoftware.com//NONSGML DDay.iCal 1.0//EN
BEGIN:VEVENT
DESCRIPTION:Join your colleagues at the Downstate Chapter joint Southern & 
 Southwestern Regions Holiday Luncheon!  Participants will hear discussion 
 on Making the Most of Your Debt Management Policy.\nHaving a sound debt ma
 nagement policy is an integral component to an issuer’s approach to bond f
 inancing. It’s also\, therefore\, important to a rating agency’s review of
  an issuer’s credit profile. This session will highlight the purpose and k
 ey components of a sound debt management policy\, and it will provide a ma
 rket update on the municipal bond market.\nAGENDA11:30 AM - Check-in and N
 etworking12:00 PM - Luncheon12:30 PM - Presentation -  Making the Most of 
 Your Debt Management Policy \nSpeaker: Stephen Adams\, PMA Securities\nLea
 rning Objectives: Participants completing this session should be able to:\
 n1.  Understand the various topics that a debt management policy should ad
 dress\;2.  Understand when to issue debt and when not to issue\; and3.  Un
 derstand the post-issuance matters that should be included in a debt manag
 ement policy.\nIntended Audience: Finance ProfessionalsDelivery method: Gr
 oup LiveProgram Level: OverviewPrerequisites: No prerequisites required Ad
 vanced Preparation: No advanced preparation requiredField of Study: Financ
 e - Technical
DTEND:20191206T133000
DTSTAMP:20260422T102657
DTSTART:20191206T113000
LOCATION:Dewey's Pizza\, 425 Regency Park\, O'Fallon\, IL 62269
SEQUENCE:0
SUMMARY:Southern & Southwestern Regions Luncheon - Making the Most of Your 
 Debt Management Policy
UID:248e0144-dc00-4ba1-a981-c7e7bc041b15
END:VEVENT
END:VCALENDAR
