BEGIN:VCALENDAR
VERSION:2.0
PRODID:-//ddaysoftware.com//NONSGML DDay.iCal 1.0//EN
BEGIN:VEVENT
DESCRIPTION:Leading an Efficient Audit :\n\n11:30 AM: Registration and Netw
 orking\n11:50 AM: Lunch\n12:10 PM-1:00 PM: Presentation\n\nDon’t miss the 
 first Illinois Government Finance Officers Association Chicago Metro Chapt
 er Lunch and Learn of the year. Learn from experienced auditors and season
 ed professionals on improving your auditing process. Lunch will be provide
 d by Panera.  Representatives from BKD\, a leading auditing firm\, will be
  providing an update on ASU standards effective for 2020\, tips for develo
 ping an audit timeline\, and benefits of an efficient close process. \nSpe
 akers:John Cutrera\, Director\, BKD\, LLPKimberly Marshall\, Director\, BK
 D\, LLP\nAnthony Fashoda\, Assistant Finance Director\, Village of Hoffman
  Estates\nRob Frederickson\, Finance Director\, United City of Yorkville\n
 Learning Objectives – Participants completing this session will be able to
 : \n\nObtain  an update on ASU standards effective for the year (local gov
 ernment)\nLearn tips for developing an audit timeline\nExplore benefits of
  an efficient close process\nApply tips for audit efficiency (learning fro
 m practitioners\; other tips – self review\, etc.)\n\nIntended Audience: F
 inance ProfessionalsDelivery method: Group LiveProgram Level: OverviewPrer
 equisites: No prerequisites required Advanced Preparation: No advanced pre
 paration requiredField of Study: Auditing (Governmental)Earn about 1.00 CP
 E credit
DTEND:20200116T130000
DTSTAMP:20260424T163545
DTSTART:20200116T113000
LOCATION:Arlington Heights Village Hall\, 33 S. Arlington Heights Road\, Ar
 lington Heights\, IL 60005
SEQUENCE:0
SUMMARY:Chicago Metro Chapter Lunch and Learn - Leading an Efficient Audit
UID:b7fb869b-3488-4139-a0bc-901cc4600b02
END:VEVENT
END:VCALENDAR
