BEGIN:VCALENDAR
VERSION:2.0
PRODID:-//ddaysoftware.com//NONSGML DDay.iCal 1.0//EN
BEGIN:VEVENT
DESCRIPTION:This session will discuss the nuances of accounting for tax inc
 rement finance (TIF) districts. Speaker: Scott Termine\, Partner\, BKD\, L
 LP  and John Cutrera\,  BKD\, LLP  \nLearning Objectives: Participants com
 pleting this session should be able to:• Learn the basics of accounting fo
 r TIF districts\; • Identify what annual reporting requirements exist for 
 TIFs\; and • Understand the issues raised when ending a TIF.\nDelivery Met
 hod: Group-LiveProgram Level: OverviewPrerequisites: No prerequisites requ
 iredAdvanced Preparation: No advanced preparation requiredField of Study: 
 Accounting (Governmental) - TechnicalEarn About 1.0 CPE credit
DTEND:20200207T130000
DTSTAMP:20260425T204418
DTSTART:20200207T113000
LOCATION:Ottimo’s Ristorante \, 16111 South LaGrange Road\, Orland Park \, 
 IL
SEQUENCE:0
SUMMARY:South Metro Chapter Lunch and Learn - Accounting for TIFs Presentat
 ion
UID:b974734a-aeb9-443f-bd82-3bc2c6d85811
END:VEVENT
END:VCALENDAR
