BEGIN:VCALENDAR
VERSION:2.0
PRODID:-//ddaysoftware.com//NONSGML DDay.iCal 1.0//EN
BEGIN:VEVENT
DESCRIPTION:Updated Description\nThis webinar will provide an overview of I
 llinois Property Tax Assessments\, Levies\, and Rates for local government
 s.  All Illinois units of local government are welcome to join and benefit
  from the general discussion\, however please note that there will be a sp
 ecific focus on Cook County processes.  This will include a discussion on 
 the property tax assessment and collection process\, including which docum
 ents Finance Directors need to file on an annual basis and when during the
  levy year those filings need to occur.  There will also be a discussion o
 f what process is used to calculate property tax rates\, including how the
  Illinois tax cap law acts as a limitation on tax rates and extensions for
  certain non-home rule communities.  Further\, the methodology for how pro
 perty is assessed will be discussed\, as well as how increases or decrease
 s in assessments impact tax rates.  Additionally\, the impact on taxing bo
 dies of both tax increment finance districts and voted bond referenda will
  be discussed.  \nSpeakers:Tanya Anthofer\, Manager of Maps and Tax Extens
 ion for Cook County ClerkAli El Saffar\, Oak Park Township Assessor and Pr
 esident of the Cook County Township Assessors Association\nLearning Object
 ives:  Participants completing this session will be able to:\n\nUnderstand
  the property tax process and timeline\, including how and when to file ne
 cessary documents\;\nLearn the process used to calculate property tax rate
 s including how the Property Tax Extension Limitation Law (PTELL or the “T
 ax Cap Law”) limits tax rates and extensions\;\nDetermine how property val
 ues are assessed and the impact of valuation increases and decreases on ta
 x rates\, and\nExplore the impact of Tax Increment Financing (TIF) and Ref
 erenda on tax rates\n\nIntended Audience: Finance ProfessionalsDelivery me
 thod: Group Internet BasedProgram Level: OverviewPrerequisites: No prerequ
 isites required Advanced Preparation: No advanced preparation requiredFiel
 d of Study: Finance - TechnicalEarn about 1.50 CPE credit
DTEND:20200130T131500
DTSTAMP:20260423T094600
DTSTART:20200130T120000
LOCATION:
SEQUENCE:0
SUMMARY:Property Tax Basics for Finance Directors (Cook County Focus)
UID:a302d6b9-45ee-49a0-a62b-e68f54149224
END:VEVENT
END:VCALENDAR
