BEGIN:VCALENDAR
VERSION:2.0
PRODID:-//ddaysoftware.com//NONSGML DDay.iCal 1.0//EN
BEGIN:VEVENT
DESCRIPTION:Intended Audience:  IGFOA TARC Committee Members.  Interested i
 n participating in the TARC Committee\, contact the IGFOA at execdir@igfoa
 .org.\nDescriptions:  The Technical Accounting Review Committee monitors a
 nd comments on activities and rulings of the Governmental Accounting Stand
 ards Board (GASB). The committee provides testimony on GASB standards and 
 educates the IGFOA membership on those standards.\nLearning Objectives:\n\
 nUnderstand and comment on the most recent GASB statements and exposure dr
 afts\nExpand your familiarity of GASB implementation and financial reporti
 ng challenges faced by local governments in Illinois through direct intera
 ction with fellow accounting and finance professionals\n\nWe are going to 
 be going through GASB’s Exposure Draft on the Implementation Guide several
  chapters at a time in order to identify any areas of concern about guidan
 ce removed that shouldn’t be\, guidance that should be removed\, etc. espe
 cially given its elevation in GAAP hierarchy and now exposure to public co
 mment.\nFor this meeting we will be discussing the first 4 chapters so ple
 ase be prepared to discuss any items that merit comment either way.  We wi
 ll then deal with another group of chapters (11 chapters total) in the fal
 l as we finalize any comments to submit by the December 31st deadline.\nAl
 so at this meeting\, Mark Nannini\, IMRF\, will be presenting IMRF's new G
 ASB 68 format for 12/31/13 data.\nDelivery method: Group-Live\nProgram Lev
 el: advanced\nPrerequisites: IGFOA TARC Committee Member\nAdvanced Prepara
 tion: Review  first four chapters of Exposure Draft on Implementation Guid
 e\nEarn about 3.0 CPE\nIf you have any questions regarding this seminar\, 
 cancellations\, complaints\, or refunds\, please contact the IGFOA at 630-
 942-6587 or info@igfoa.org
DTSTAMP:20260424T113208
DTSTART;VALUE=DATE:20140625
LOCATION:IGFOA\, 800 Roosevelt Road Building C Suite 312\, Glen Ellyn\, Ill
 inois 60137
SEQUENCE:0
SUMMARY:Technical Accounting Review Committee Meeting
UID:d3e3725d-fece-4d5b-be22-da64bd746f96
END:VEVENT
END:VCALENDAR
