BEGIN:VCALENDAR
VERSION:2.0
PRODID:-//ddaysoftware.com//NONSGML DDay.iCal 1.0//EN
BEGIN:VEVENT
DESCRIPTION: All members are invited to a walk through of the new site cont
 ent and demonstration of the tools available. 30 minutes.  REGISTER
DTEND:20140514T113000
DTSTAMP:20260425T163729
DTSTART:20140514T110000
LOCATION:online demo
SEQUENCE:0
SUMMARY:Website Demo: IGFOA Members' Overview
UID:15771d6c-1326-4d7f-87d9-e89033085ccc
END:VEVENT
END:VCALENDAR
