BEGIN:VCALENDAR
VERSION:2.0
PRODID:-//ddaysoftware.com//NONSGML DDay.iCal 1.0//EN
BEGIN:VEVENT
DESCRIPTION:all members are invited to a walk through of the new site conte
 nt and demonstration of the tools available. 30 minutes. REGISTER 
DTSTAMP:20260421T110125
DTSTART;VALUE=DATE:20140523
LOCATION:
SEQUENCE:0
SUMMARY:Website Demo: IGFOA Members' Overview
UID:73319cac-353c-47d4-873c-583940679eca
END:VEVENT
END:VCALENDAR
