BEGIN:VCALENDAR
VERSION:2.0
PRODID:-//ddaysoftware.com//NONSGML DDay.iCal 1.0//EN
BEGIN:VEVENT
DESCRIPTION:all members are invited to a walk through of the new site conte
 nt and demonstration of the tools available. 30 minutes. REGISTER 
DTSTAMP:20260421T105130
DTSTART;VALUE=DATE:20140529
LOCATION:
SEQUENCE:0
SUMMARY:Website Demo: IGFOA Members' Overview
UID:ce5f9f0f-5ae1-4aab-a749-e4952161ecec
END:VEVENT
END:VCALENDAR
